BEGIN:VCALENDAR
PRODID:Solar Promotion International GmbH
CALSCALE:GREGORIAN
BEGIN:VEVENT
DTSTAMP:20260421T024149Z
DTSTART:20260203T130000
DTEND:20260203T143000
SUMMARY:From Momentum to Maturity: Taking Southern Africa's Solar Market to the Next Level
TZID:Europe/Berlin
LAST-MODIFIED:20260417T072109Z
DESCRIPTION:Southern Africa is entering a new phase of solar market development\, transitioning from early procurement-led growth to more complex questions around system integration\, grid capacity\, and long-term market sustainability. In several countries across the region\, particularly South Africa\, mature utility-scale and corporate PPA markets are now colliding with transmission constraints\, curtailment risks\, evolving market rules\, and increasing demand for flexibility through storage and hybrid solutions. This session will focus on how Southern African solar markets can be taken to the next level by aligning policy frameworks\, infrastructure planning\, and private-sector innovation\, drawing lessons from recent reforms\, emerging commercial models\, and regional power market dynamics. Through a regional overview followed by a targeted panel discussion\, the session will provide practical insights into how governments\, system operators\, and industry can sustain investment momentum while building a more resilient and integrated power system.
SEQUENCE:1776739309
URL:https://www.intersolar.co.ke/conference-program/from-momentum-to-maturity-taking-southern-africas-solar-market-to-the-next-level
LOCATION:Intersolar Africa Conference Program\, Room: MWINA
UID:2ac8bfe4-e18b-4635-8c54-7f9a17f0aae7
END:VEVENT
END:VCALENDAR
